BEGIN:VCALENDAR
VERSION:2.0
PRODID:-//Tukios.com/
BEGIN:VEVENT
UID:33fdd440-83bf-4bf8-81c7-8b70736205b1@obituaries.brianppickettfuneralgroup.com
DTSTAMP:20260422T014520Z
DTSTART:20260421T210000Z
DTEND:20260422T003000Z
SUMMARY:Visitation
DESCRIPTION:
URL:https://obituaries.brianppickettfuneralgroup.com/obituaries/pearlie-smith
LOCATION: 5301 W Madison St  Chicago IL 60644
GEO:41.8801712;-87.7578825
END:VEVENT
END:VCALENDAR