BEGIN:VCALENDAR
VERSION:2.0
PRODID:-//Tukios.com/
BEGIN:VEVENT
UID:080532ac-62bd-4e1b-8201-d0c269b17073@obituaries.brianppickettfuneralgroup.com
DTSTAMP:20260422T013650Z
DTSTART:20260422T150000Z
DTEND:20260422T170000Z
SUMMARY:Funeral Service
DESCRIPTION:
URL:https://obituaries.brianppickettfuneralgroup.com/obituaries/pearlie-smith
LOCATION: 5301 W. Madison St.  Chicago IL 60610
GEO:41.8801712;-87.7578825
END:VEVENT
END:VCALENDAR