BEGIN:VCALENDAR
VERSION:2.0
PRODID:-//Tukios.com/
BEGIN:VEVENT
UID:496aead5-b432-4995-9434-3e60e6144cc9@obituaries.brianppickettfuneralgroup.com
DTSTAMP:20260421T085006Z
DTSTART:20260417T150000Z
DTEND:20260417T170000Z
SUMMARY:Sarah Taylor
DESCRIPTION:
URL:https://obituaries.brianppickettfuneralgroup.com/obituaries/sarah-taylor
LOCATION: 5301 W Madison St  Chicago IL 60644
GEO:41.8801712;-87.7578825
END:VEVENT
END:VCALENDAR