BEGIN:VCALENDAR
VERSION:2.0
PRODID:-//Tukios.com/
BEGIN:VEVENT
UID:eb35dd61-34d6-4ceb-bfc7-d8a6e7d2d172@obituaries.brianppickettfuneralgroup.com
DTSTAMP:20260420T232456Z
DTSTART:20260424T150000Z
DTEND:20260424T170000Z
SUMMARY:Funeral Service
DESCRIPTION:
URL:https://obituaries.brianppickettfuneralgroup.com/obituaries/sonya-franklin
LOCATION: 5301 W Madison St  Chicago IL 60644
GEO:41.8801712;-87.7578825
END:VEVENT
END:VCALENDAR